BEGIN:VCALENDAR
VERSION:2.0
PRODID:-//Sabre//Sabre VObject 4.5.8//EN
CALSCALE:GREGORIAN
BEGIN:VEVENT
UID:sabre-vobject-f6412e68-153e-44ed-a9cf-7cc041e705ba
DTSTAMP:20260420T192249Z
SUMMARY:Auf den Spuren der Hl. Crescentia von Kaufbeuren
DESCRIPTION:https://keb-kf-oal.de/keb-kaufbeuren/veranstaltungen/auf-den-sp
 uren-der-hl-crescentia-von-kaufbeuren_id327689
DTSTART;TZID=Europe/Berlin:20260422T143000
LOCATION:Pfarrheim St. Martin\, Meichelbeckstraße 5\, 87616 Marktoberdorf
END:VEVENT
END:VCALENDAR
