BEGIN:VCALENDAR
VERSION:2.0
PRODID:-//Sabre//Sabre VObject 4.5.8//EN
CALSCALE:GREGORIAN
BEGIN:VEVENT
UID:sabre-vobject-e233dc00-8555-47e7-9702-b184e5affcc2
DTSTAMP:20260424T073748Z
SUMMARY:Erziehungskompetenzen von Eltern fördern
DESCRIPTION:https://keb-kf-oal.de/keb-kaufbeuren/veranstaltungen/erziehungs
 kompetenzen-von-eltern-foerdern_id323729
DTSTART;TZID=Europe/Berlin:20260506T093000
DTEND;TZID=Europe/Berlin:20260506T110000
LOCATION:Kraftwerk\, Hauptstraße 11\, 87647 Kraftisried
END:VEVENT
END:VCALENDAR
