BEGIN:VCALENDAR
VERSION:2.0
PRODID:-//Sabre//Sabre VObject 4.5.8//EN
CALSCALE:GREGORIAN
BEGIN:VEVENT
UID:sabre-vobject-1e6bd503-4d6a-4262-9573-c33e76279103
DTSTAMP:20260423T023058Z
SUMMARY:Kess erziehen
DESCRIPTION:https://keb-kf-oal.de/keb-kaufbeuren/veranstaltungen/kess-erzie
 hen_id321706
DTSTART;TZID=Europe/Berlin:20260430T193000
DTEND;TZID=Europe/Berlin:20260430T213000
LOCATION:Familienstützpunkt Marktoberdorf\, Jahnstraße 12\, 87616 Marktob
 erdorf
END:VEVENT
END:VCALENDAR
