BEGIN:VCALENDAR
VERSION:2.0
PRODID:-//Sabre//Sabre VObject 4.5.8//EN
CALSCALE:GREGORIAN
BEGIN:VEVENT
UID:sabre-vobject-5d3cabba-6200-418b-8f02-57bc755ea242
DTSTAMP:20260422T024004Z
SUMMARY:Ehevorbereitungsseminar
DESCRIPTION:https://keb-kf-oal.de/keb-kaufbeuren/veranstaltungen/ehevorbere
 itungsseminar_id320909
DTSTART;TZID=Europe/Berlin:20260705T090000
LOCATION:Haus St. Martin\, Spitaltor 4\, 87600 Kaufbeuren
END:VEVENT
END:VCALENDAR
