BEGIN:VCALENDAR
VERSION:2.0
PRODID:-//Sabre//Sabre VObject 4.5.8//EN
CALSCALE:GREGORIAN
BEGIN:VEVENT
UID:sabre-vobject-64665752-5926-41b6-97a4-b33d4f1d1d80
DTSTAMP:20260424T093444Z
SUMMARY:"Zeit ist unser kostbarster Besitz - mach wir das BESTE daraus!"
DESCRIPTION:https://keb-kf-oal.de/keb-kaufbeuren/veranstaltungen/zeit-ist-u
 nser-kostbarster-besitz-mach-wir-das-beste-daraus_id268238
DTSTART;TZID=Europe/Berlin:20250401T190000
LOCATION:Pfarrheim Biessenhofen\, Kirchenstraße 5\, 87640 Biessenhofen
END:VEVENT
END:VCALENDAR
