BEGIN:VCALENDAR
VERSION:2.0
PRODID:-//Sabre//Sabre VObject 4.5.8//EN
CALSCALE:GREGORIAN
BEGIN:VEVENT
UID:sabre-vobject-1b2116f3-48cb-430d-b86b-56fecd0a6ccc
DTSTAMP:20260419T175536Z
SUMMARY:Wir bleiben dran - ein stärkender Kurs für Paare
DESCRIPTION:https://keb-kf-oal.de/keb-kaufbeuren/veranstaltungen/wir-bleibe
 n-dran-ein-staerkender-kurs-fuer-paare_id244661
DTSTART;TZID=Europe/Berlin:20250322T090000
LOCATION:Haus St. Hildegard\, Kirchsteige 7\, 87459 Pfronten
END:VEVENT
END:VCALENDAR
