BEGIN:VCALENDAR
VERSION:2.0
PRODID:-//Sabre//Sabre VObject 4.5.8//EN
CALSCALE:GREGORIAN
BEGIN:VEVENT
UID:sabre-vobject-8b630501-db4d-4b22-8fe7-f360d34d70ea
DTSTAMP:20260421T232403Z
SUMMARY:Spirituelle Naturgänge für Erwachsene 2023
DESCRIPTION:https://keb-kf-oal.de/keb-kaufbeuren/veranstaltungen/spirituell
 e-naturgaenge-fuer-erwachsene-2023_id180219
DTSTART;TZID=Europe/Berlin:20230321T093000
LOCATION:Haus St. Martin\, Spitaltor 4\, 87600 Kaufbeuren
END:VEVENT
END:VCALENDAR
