BEGIN:VCALENDAR
VERSION:2.0
PRODID:-//Sabre//Sabre VObject 4.5.8//EN
CALSCALE:GREGORIAN
BEGIN:VEVENT
UID:sabre-vobject-1b109112-2a5d-4745-a7e9-0dde9306f76d
DTSTAMP:20260420T110552Z
SUMMARY:Ehevorbereitungsseminar
DESCRIPTION:https://keb-kf-oal.de/keb-kaufbeuren/veranstaltungen/ehevorbere
 itungsseminar_id180216
DTSTART;TZID=Europe/Berlin:20230527T090000
LOCATION:Pfarrheim St. Magnus\, Schwabenstraße 63\, 87616 Marktoberdorf
END:VEVENT
END:VCALENDAR
